BEGIN:VCALENDAR
VERSION:2.0
PRODID:-//Intercessio -  KI mit Empathie für Coaches, Berater, Personalunternehmer und HR
CALSCALE:GREGORIAN
METHOD:PUBLISH
X-WR-CALNAME:Intercessio -  KI mit Empathie für Coaches, Berater, Personalunternehmer und HR
X-ORIGINAL-URL:https://intercessio.de/produkt/live-online-training-der-ai-driven-recruiter-schritt-fuer-schritt-zur-modernen-talentakquise-mit-ki-fuer-einsteiger-und-profis/
X-WR-CALDESC:**Live Online-Training**: Der AI-DRIVEN RECRUITER &#8211; Schritt-für-Schritt zur modernen Talentakquise mit KI – für Einsteiger und Profis
BEGIN:VEVENT
DTSTART:20241120T100000
DTEND:20241122T120000
SUMMARY:**Live Online-Training**: Der AI-DRIVEN RECRUITER &#8211; Schritt-für-Schritt zur modernen Talentakquise mit KI – für Einsteiger und Profis
DESCRIPTION:<span style="font-size: 14pt;">In diesem 3tägigen <strong>Live Online Workshop</strong> vom <span style="color: #800080;"><strong>20</strong></span><strong><span style="color: #c10505;"><span style="color: #800080;">.11.-22.11.2024 jeweils von 10 - 12 Uhr</span> </span></strong>erfährst Du, wie Du mit AI im Recruiting erfolgreich durchstartest, und wie Du <strong>ChatGPT</strong> und <strong>Microsoft Copilot</strong> gezielt einsetzt und dabei ethische und rechtliche Standards und den Datenschutz einhältst.</span>

<span style="font-size: 14pt;">Du erhälst nach dem Training</span>
<ul>
 	<li><span style="font-size: 14pt;">die <strong>Recordings</strong> des Workshops mit Live-Time-Zugang,</span></li>
 	<li><span style="font-size: 14pt;">dreu <strong>Workbooks</strong> mit Inhalten, Checklists und Links</span></li>
 	<li><span style="font-size: 14pt;">sowie ein persönliches <strong>Teilnahmezertifikat</strong>.</span>
_________________________</li>
</ul>
<span style="font-size: 12pt;">Für einen Inhouse Gruppen-Intensiv Online-Workshop oder einen Rabatt für die Teilnahme von mehreren Personen spreche uns gern an!</span>

<span style="font-size: 12pt;">Bitte beachte auch die Informationen zu unseren <span style="color: #800080;"><a style="color: #800080;" href="https://intercessio.de/agb/" target="_blank" rel="noopener noreferrer">AGBs,</a> <a style="color: #800080;" href="https://intercessio.de/datenschutzerklaerung/" target="_blank" rel="noopener noreferrer">Datenschutzerklärung,</a> <a style="color: #800080;" href="https://intercessio.de/nutzungsvereinbarung-online-schulungen/" target="_blank" rel="noopener noreferrer">Nutzungsvereinbarung für Online-Schulungen</a></span> bzw. speziellen <a href="https://intercessio.de/datenschutz-webinare/" target="_blank" rel="noopener noreferrer"><span style="color: #800080;">Datenschutzregeln</span> </a>für die Online-Trainings und Webinare.</span>
LOCATION:
END:VEVENT
END:VCALENDAR
