BEGIN:VCALENDAR
VERSION:2.0
PRODID:-//Intercessio -  KI mit Empathie für Coaches, Berater, Personalunternehmer und HR
CALSCALE:GREGORIAN
METHOD:PUBLISH
X-WR-CALNAME:Intercessio -  KI mit Empathie für Coaches, Berater, Personalunternehmer und HR
X-ORIGINAL-URL:https://intercessio.de/produkt/wie-werde-ich-durch-kompetenzbasiertes-active-sourcing-treffsicher/
X-WR-CALDESC:Gratis-Workshop &#8211; Wie werde ich durch kompetenzbasiertes Active Sourcing treffsicher?
BEGIN:VEVENT
DTSTART:20210708T100000
DTEND:20210708T120000
SUMMARY:Gratis-Workshop &#8211; Wie werde ich durch kompetenzbasiertes Active Sourcing treffsicher?
DESCRIPTION:<span style="font-size: 14pt;">Brauchen Ihre Sourcing Projekte immer länger, bis Sie die passenden Kandidat:innen finden, weil Sie oft mehrere  Hunderte nicht passender Profile anklicken  müssen?</span>

<span style="font-size: 14pt;">Wenn Sie jetzt wieder einfacher und leichter vielversprechende Kandidat:innen finden möchten, dann empfehlen wir Ihnen, dass Sie sich auf deren Besonderheiten und individuellen Skills fokussieren.  Deshalb ist <strong>kompetenzbasiertes Active Sourcing</strong> ein<strong> Skills-first-Ansatz</strong> und so erfolgreich, die passenden Kandidat:innen treffsicher zu finden. </span>

<span style="font-size: 14pt;">Wie Sie das machen, erfahren SIE in unserem 2-stündigen Online-Training kostenlos: Wir zeigen Ihnen anhand von Praxisbeispielen die 3 wichtigsten Vorteile von <strong>kompetenzbasiertes Active Sourcing</strong> und wie Sie selbst auf einfache Art treffsicher werden.</span>

<span style="font-size: 14pt;">Wie werden Sie diese einmalige Chance nutzen?</span>
LOCATION:
END:VEVENT
END:VCALENDAR
