BEGIN:VCALENDAR
VERSION:2.0
PRODID:-//Intercessio -  KI mit Empathie für Coaches, Berater, Personalunternehmer und HR
CALSCALE:GREGORIAN
METHOD:PUBLISH
X-WR-CALNAME:Intercessio -  KI mit Empathie für Coaches, Berater, Personalunternehmer und HR
X-ORIGINAL-URL:https://intercessio.de/produkt/gratis-workshop-die-3-zentralen-ursachen-warum-aktuell-ihr-active-sourcing-nicht-mehr-funktioniert/
X-WR-CALDESC:Gratis-Workshop &#8211; Die 3 zentralen Ursachen, warum &#8211; aktuell &#8211; Ihr Active Sourcing nicht mehr funktioniert. Und 3 einfache Lösungen.
BEGIN:VEVENT
DTSTART:20210617T100000
DTEND:20210617T120000
SUMMARY:Gratis-Workshop &#8211; Die 3 zentralen Ursachen, warum &#8211; aktuell &#8211; Ihr Active Sourcing nicht mehr funktioniert. Und 3 einfache Lösungen.
DESCRIPTION:<div class="fusion-title title fusion-title-1 fusion-sep-none fusion-title-text fusion-title-size-two fusion-border-below-title">
<h2><span style="font-size: 18pt;"><strong>Die gute Nachricht ist: Es gibt einfache Lösungen - die schlechte dazu ist: Ohne Änderung Ihrer Routine, werden Sie nicht mehr problemlos die guten und relevanten Kandidaten finden. </strong></span></h2>
<h2><span style="font-size: 18pt;"><strong>DIE LÖSUNGEN zeigen wir Ihnen in diesem Gratis Online-Training: Wie SIE die Probleme hinter sich lassen und Ihre Handlungsoptionen, wie SIE aus Ihrer aktuellen Teufelsspirale herauskommen.</strong></span></h2>
</div>
<div class="fusion-text">
<h3><span style="font-size: 14pt;">Nutzen Sie jetzt die Gelegenheit und nehmen Sie <em><strong>gratis an dem 2-</strong><strong>stündigem </strong></em> <strong>PRIVAT- WORKSHOP</strong> teil.</span></h3>
<h3><span style="font-size: 14pt;"><strong>Sind <em>Sie</em> bei dieser einmaligen Chance dabei?</strong></span></h3>
</div>
LOCATION:
END:VEVENT
END:VCALENDAR
