BEGIN:VCALENDAR
VERSION:2.0
PRODID:-//Intercessio -  KI mit Empathie für Coaches, Berater, Personalunternehmer und HR
CALSCALE:GREGORIAN
METHOD:PUBLISH
X-WR-CALNAME:Intercessio -  KI mit Empathie für Coaches, Berater, Personalunternehmer und HR
X-ORIGINAL-URL:https://intercessio.de/produkt/die-ueberholspur-im-active-sourcing-schneller-bessere-talente-finden/
X-WR-CALDESC:Online-Training &#8211; Die Überholspur im Active Sourcing &#8211; schneller bessere Talente finden!
BEGIN:VEVENT
DTSTART:20200625T100000
DTEND:20200625T120000
SUMMARY:Online-Training &#8211; Die Überholspur im Active Sourcing &#8211; schneller bessere Talente finden!
DESCRIPTION:In diesem Webinar "DIE ÜBERHOLSPUR IM ACTIVE SOURCING " erfahren Sie die die zentralen Profi-Active Sourcer Tricks, so dass auch Sie schneller, die besseren und anderen Talente suchen und finden werden.
LOCATION:
END:VEVENT
END:VCALENDAR
