BEGIN:VCALENDAR
VERSION:2.0
PRODID:-//Intercessio -  KI mit Empathie für Coaches, Berater, Personalunternehmer und HR
CALSCALE:GREGORIAN
METHOD:PUBLISH
X-WR-CALNAME:Intercessio -  KI mit Empathie für Coaches, Berater, Personalunternehmer und HR
X-ORIGINAL-URL:https://intercessio.de/produkt/webinar-wie-habe-ich-spass-beim-sourcing/
X-WR-CALDESC:Webinar &#8211; Wie habe ich Spaß beim Active Sourcing UND besetze damit erfolgreich Stellen?
BEGIN:VEVENT
DTSTART:20191014T160000
DTEND:20191014T170000
SUMMARY:Webinar &#8211; Wie habe ich Spaß beim Active Sourcing UND besetze damit erfolgreich Stellen?
DESCRIPTION:In diesem Webinar möchten wir Ihnen ein paar der Möglichkeiten aufzeigen, wie Sie wieder Spaß, Freude und ein gutes Gefühl zurück in ihre Aufgabe als "Talentfinder" bringen. Und so auch gleichzeitig den Erfolg steigern können.
LOCATION:
END:VEVENT
END:VCALENDAR
