BEGIN:VCALENDAR
VERSION:2.0
PRODID:-//Intercessio -  KI mit Empathie für Coaches, Berater, Personalunternehmer und HR
CALSCALE:GREGORIAN
METHOD:PUBLISH
X-WR-CALNAME:Intercessio -  KI mit Empathie für Coaches, Berater, Personalunternehmer und HR
X-ORIGINAL-URL:https://intercessio.de/produkt/active-sourcing-fortgeschrittene-2-11-2019-bonn/
X-WR-CALDESC:ACTIVE SOURCING FORTGESCHRITTENE &#8211; 25.11.2019 &#8211; Bonn
BEGIN:VEVENT
DTSTART:20191125T093000
DTEND:20191125T173000
SUMMARY:ACTIVE SOURCING FORTGESCHRITTENE &#8211; 25.11.2019 &#8211; Bonn
DESCRIPTION:In diesem PRAXIS-WORKSHOP für ACTIVE SOURCING FORTGESCHRITTENE lernen Sie Strategien &amp; Profi-Methoden, wie Sie Mitarbeiter in Social Media und im Web finden
LOCATION:Regus Business Center im Haus FGS Flick Gocke Schaumburg Fritz-Schaeffer-Str. 1 53113 Bonn 
END:VEVENT
END:VCALENDAR
