BEGIN:VCALENDAR
VERSION:2.0
PRODID:-//Intercessio -  KI mit Empathie für Coaches, Berater, Personalunternehmer und HR
CALSCALE:GREGORIAN
METHOD:PUBLISH
X-WR-CALNAME:Intercessio -  KI mit Empathie für Coaches, Berater, Personalunternehmer und HR
X-ORIGINAL-URL:https://intercessio.de/produkt/sourcing-leadership-intensiv-workshop-25-26-07-2019-bonn/
X-WR-CALDESC:SOURCING LEADERSHIP INTENSIV WORKSHOP &#8211; 25.- 26.07.2019 &#8211; Bonn
BEGIN:VEVENT
DTSTART:20190725T093000
DTEND:20190726T173000
SUMMARY:SOURCING LEADERSHIP INTENSIV WORKSHOP &#8211; 25.- 26.07.2019 &#8211; Bonn
DESCRIPTION:In diesem zweitägigen Intensiv Workshop erlangen Sie das notwendige Knowhow für praktische Sourcing Strategien, Tools und Techniken, die Sie als Sourcing Manager befähigen, Sourcer effektiv(er) zu führen.
LOCATION:Intercessio GmbH, Bonn, Deutschland
END:VEVENT
END:VCALENDAR
