BEGIN:VCALENDAR
VERSION:2.0
PRODID:-//Intercessio -  KI mit Empathie für Coaches, Berater, Personalunternehmer und HR
CALSCALE:GREGORIAN
METHOD:PUBLISH
X-WR-CALNAME:Intercessio -  KI mit Empathie für Coaches, Berater, Personalunternehmer und HR
X-ORIGINAL-URL:https://intercessio.de/produkt/active-sourcing-fortgeschrittene-7-12-2018-bonn/
X-WR-CALDESC:ACTIVE SOURCING FORTGESCHRITTENE &#8211; 7.12.2018 &#8211; Bonn
BEGIN:VEVENT
DTSTART:20181207T093000
DTEND:20181207T173000
SUMMARY:ACTIVE SOURCING FORTGESCHRITTENE &#8211; 7.12.2018 &#8211; Bonn
DESCRIPTION:In diesem PRAXIS-WORKSHOP für ACTIVE SOURCING für FORTGESCHRITTENE lernen Sie Tricks, Tipps und Profi-Methoden, wie Sie ‚Hidden Talents‘ nicht nur in Social Media, sondern auch mit Mitteln und Möglichkeiten des Social Webs finden.
LOCATION:Intercessio GmbH, Bonn, Deutschland
END:VEVENT
END:VCALENDAR
